BEGIN:VCALENDAR
VERSION:2.0
PRODID:-//ITA Academy GmbH - ECPv6.15.17.1//NONSGML v1.0//EN
CALSCALE:GREGORIAN
METHOD:PUBLISH
X-WR-CALNAME:ITA Academy GmbH
X-ORIGINAL-URL:https://ita-academy.de
X-WR-CALDESC:Veranstaltungen für ITA Academy GmbH
REFRESH-INTERVAL;VALUE=DURATION:PT1H
X-Robots-Tag:noindex
X-PUBLISHED-TTL:PT1H
BEGIN:VTIMEZONE
TZID:Europe/Berlin
BEGIN:DAYLIGHT
TZOFFSETFROM:+0100
TZOFFSETTO:+0200
TZNAME:CEST
DTSTART:20240331T010000
END:DAYLIGHT
BEGIN:STANDARD
TZOFFSETFROM:+0200
TZOFFSETTO:+0100
TZNAME:CET
DTSTART:20241027T010000
END:STANDARD
BEGIN:DAYLIGHT
TZOFFSETFROM:+0100
TZOFFSETTO:+0200
TZNAME:CEST
DTSTART:20250330T010000
END:DAYLIGHT
BEGIN:STANDARD
TZOFFSETFROM:+0200
TZOFFSETTO:+0100
TZNAME:CET
DTSTART:20251026T010000
END:STANDARD
BEGIN:DAYLIGHT
TZOFFSETFROM:+0100
TZOFFSETTO:+0200
TZNAME:CEST
DTSTART:20260329T010000
END:DAYLIGHT
BEGIN:STANDARD
TZOFFSETFROM:+0200
TZOFFSETTO:+0100
TZNAME:CET
DTSTART:20261025T010000
END:STANDARD
END:VTIMEZONE
BEGIN:VEVENT
DTSTART;TZID=Europe/Berlin:20250221T100000
DTEND;TZID=Europe/Berlin:20250221T120000
DTSTAMP:20260420T172328
CREATED:20250114T132315Z
LAST-MODIFIED:20250129T142641Z
UID:2385-1740132000-1740139200@ita-academy.de
SUMMARY:Upkip use-case Event
DESCRIPTION:Upkip use-case event on February 21st at The Innovation and Learning Center Aachen! \nIn collaboration with the ITA academy\, ICB-WE will be showcasing the implementation of the Upkip Industrial Iot platform at the ILC* Industry 4.0 model factory.\nThe Upkip solution &#8211; which won the European Software and IT Excellence Award back in 2016 and has been evolving ever since\, is an intuitive and easy to use real-time manufacturing monitoring solution with advanced analytics capabilities and machine learning\, that supports users make fact-based decisions and actions. \nThe event is dedicated to industrial manufacturers who want to:\n&#8211; improve the performance of their production\,\n&#8211; minimise their costs\,\n&#8211; stop the production of scrap as early as possible in their manufacturing flow\,\n-implement smart remote maintenance. \nWhat can you expect from this event?\n&#8211; Take part to a live demonstration: Experience Upkip in action &#8211; how it works and what it solves\, in a real working environment with different kind of production machines\, sensors and API\,\n&#8211; Get industry professionals insights: Gain knowledge &#8211; also on technical and/or on integration topics\, and exchange on possible concerns you may have\,\n&#8211; Discuss your current projects with us and take advantage of networking opportunities: with experts in the field and/or like-minded people. \nPlease Register here for free: https://forms.office.com/e/Rv0tE3nj90
URL:https://ita-academy.de/event/upkip-use-case-event/
LOCATION:Innovation and Learning Center Aachen\, Vaalser Straße 460\, Aachen\, 52074\, Deutschland
CATEGORIES:ILC Event
ATTACH;FMTTYPE=image/png:https://ita-academy.de/wp-content/uploads/2025/01/ILC-Titelbild.png
END:VEVENT
END:VCALENDAR