BEGIN:VCALENDAR
VERSION:2.0
PRODID:-//ITA Academy GmbH - ECPv6.15.17.1//NONSGML v1.0//EN
CALSCALE:GREGORIAN
METHOD:PUBLISH
X-ORIGINAL-URL:https://ita-academy.de
X-WR-CALDESC:Veranstaltungen für ITA Academy GmbH
REFRESH-INTERVAL;VALUE=DURATION:PT1H
X-Robots-Tag:noindex
X-PUBLISHED-TTL:PT1H
BEGIN:VTIMEZONE
TZID:Europe/Berlin
BEGIN:DAYLIGHT
TZOFFSETFROM:+0100
TZOFFSETTO:+0200
TZNAME:CEST
DTSTART:20240331T010000
END:DAYLIGHT
BEGIN:STANDARD
TZOFFSETFROM:+0200
TZOFFSETTO:+0100
TZNAME:CET
DTSTART:20241027T010000
END:STANDARD
BEGIN:DAYLIGHT
TZOFFSETFROM:+0100
TZOFFSETTO:+0200
TZNAME:CEST
DTSTART:20250330T010000
END:DAYLIGHT
BEGIN:STANDARD
TZOFFSETFROM:+0200
TZOFFSETTO:+0100
TZNAME:CET
DTSTART:20251026T010000
END:STANDARD
BEGIN:DAYLIGHT
TZOFFSETFROM:+0100
TZOFFSETTO:+0200
TZNAME:CEST
DTSTART:20260329T010000
END:DAYLIGHT
BEGIN:STANDARD
TZOFFSETFROM:+0200
TZOFFSETTO:+0100
TZNAME:CET
DTSTART:20261025T010000
END:STANDARD
END:VTIMEZONE
BEGIN:VEVENT
DTSTART;TZID=Europe/Berlin:20250703T090000
DTEND;TZID=Europe/Berlin:20250704T160000
DTSTAMP:20260420T195149
CREATED:20250224T095312Z
LAST-MODIFIED:20250224T095312Z
UID:2524-1751533200-1751644800@ita-academy.de
SUMMARY:Prozessoptimierung durch Lean-Managment
DESCRIPTION:Entdecken Sie die Vorteile von Lean-Management in unserem praxisorientierten Workshop!\nErlernen Sie die zentralen Lean-Prinzipien und -Werkzeuge\, von bewährten Methoden wie PDCA und 5S bis hin zu fortgeschrittenen Techniken wie Jidoka\, SMED und Total Productive Maintenance. Durch interaktive Übungen\, reale Praxisbeispiele und gemeinsame Diskussionen zeigen wir Ihnen\, wie Sie Verschwendung gezielt abbauen\, Prozesse optimieren und eine Kultur der kontinuierlichen Verbesserung in Ihrem Unternehmen etablieren. \nUnser Workshop setzt auf Ihren praktischen Nutzen. Am Ende sind Sie in der Lage\, Arbeitsabläufe präzise zu analysieren\, Engpässe zu erkennen und Verschwendung effektiv zu beseitigen. Mit Unterstützung unserer Experten erlernen Sie verschiedene Problemlösungstechniken\, die Sie direkt auf Ihr Unternehmen anwenden können. So werden Sie Prozesse zu optimieren\, Kosten senken und die Produktivität in Ihrem Unternehmen nachhaltig steigern. \nWeitere Informationen zu der Veranstaltung findest du auf unserem Flyer oder auf unserer Website \nGood to Know \nVeranstaltungsort: Innovation & Learning Center Aachen\, \nVaalser Straße 460 Aachen\, 52074 Deutschland \nDauer: 09-16 Uhr \nSprache: Deutsch ggf. Englisch \nLernmaterial: Material wird zur Verfügung gestellt \nKosten: 980\,00 €  (p.P und zzgl. MwSt.) 10% Rabatt bis 8 Wochen vor Termin \nJetzt teilnehmen!
URL:https://ita-academy.de/event/prozessoptimierung-durch-lean-managment-3/
LOCATION:Innovation and Learning Center Aachen\, Vaalser Straße 460\, Aachen\, 52074\, Deutschland
CATEGORIES:ILC Event
ATTACH;FMTTYPE=image/png:https://ita-academy.de/wp-content/uploads/2025/02/KI-Titelbild-2.png
ORGANIZER;CN="ITA Academy GmbH":MAILTO:post@ita-academy.de
END:VEVENT
END:VCALENDAR