BEGIN:VCALENDAR
VERSION:2.0
PRODID:-//ITA Academy GmbH - ECPv6.15.17.1//NONSGML v1.0//EN
CALSCALE:GREGORIAN
METHOD:PUBLISH
X-ORIGINAL-URL:https://ita-academy.de
X-WR-CALDESC:Veranstaltungen fÃ¼r ITA Academy GmbH
REFRESH-INTERVAL;VALUE=DURATION:PT1H
X-Robots-Tag:noindex
X-PUBLISHED-TTL:PT1H
BEGIN:VTIMEZONE
TZID:Europe/Berlin
BEGIN:DAYLIGHT
TZOFFSETFROM:+0100
TZOFFSETTO:+0200
TZNAME:CEST
DTSTART:20240331T010000
END:DAYLIGHT
BEGIN:STANDARD
TZOFFSETFROM:+0200
TZOFFSETTO:+0100
TZNAME:CET
DTSTART:20241027T010000
END:STANDARD
BEGIN:DAYLIGHT
TZOFFSETFROM:+0100
TZOFFSETTO:+0200
TZNAME:CEST
DTSTART:20250330T010000
END:DAYLIGHT
BEGIN:STANDARD
TZOFFSETFROM:+0200
TZOFFSETTO:+0100
TZNAME:CET
DTSTART:20251026T010000
END:STANDARD
BEGIN:DAYLIGHT
TZOFFSETFROM:+0100
TZOFFSETTO:+0200
TZNAME:CEST
DTSTART:20260329T010000
END:DAYLIGHT
BEGIN:STANDARD
TZOFFSETFROM:+0200
TZOFFSETTO:+0100
TZNAME:CET
DTSTART:20261025T010000
END:STANDARD
END:VTIMEZONE
BEGIN:VEVENT
DTSTART;TZID=Europe/Berlin:20250506T090000
DTEND;TZID=Europe/Berlin:20250507T160000
DTSTAMP:20260420T231537
CREATED:20250224T095022Z
LAST-MODIFIED:20250224T095022Z
UID:2522-1746522000-1746633600@ita-academy.de
SUMMARY:Prozessoptimierung durch Lean-Managment
DESCRIPTION:Entdecken Sie die Vorteile von Lean-Management in unserem praxisorientierten Workshop!\nErlernen Sie die zentralen Lean-Prinzipien und -Werkzeuge\, von bewÃ¤hrten Methoden wie PDCA und 5S bis hin zu fortgeschrittenen Techniken wie Jidoka\, SMED und Total Productive Maintenance. Durch interaktive Ãœbungen\, reale Praxisbeispiele und gemeinsame Diskussionen zeigen wir Ihnen\, wie Sie Verschwendung gezielt abbauen\, Prozesse optimieren und eine Kultur der kontinuierlichen Verbesserung in Ihrem Unternehmen etablieren. \nUnser Workshop setzt auf Ihren praktischen Nutzen. Am Ende sind Sie in der Lage\, ArbeitsablÃ¤ufe prÃ¤zise zu analysieren\, EngpÃ¤sse zu erkennen und Verschwendung effektiv zu beseitigen. Mit UnterstÃ¼tzung unserer Experten erlernen Sie verschiedene ProblemlÃ¶sungstechniken\, die Sie direkt auf Ihr Unternehmen anwenden kÃ¶nnen. So werden Sie Prozesse zu optimieren\, Kosten senken und die ProduktivitÃ¤t in Ihrem Unternehmen nachhaltig steigern. \nWeitere Informationen zu der Veranstaltung findest du auf unserem Flyer oder auf unserer Website \nGood to Know \nVeranstaltungsort: Innovation & Learning Center Aachen\, \nVaalser StraÃŸe 460Â Aachen\,Â 52074Â Deutschland \nDauer: 09-16 Uhr \nSprache: Deutsch ggf. Englisch \nLernmaterial:Â Material wird zur VerfÃ¼gung gestellt \nKosten: 980\,00 â‚¬ â€¨(p.P und zzgl. MwSt.)â€¨10% Rabatt bis 8 Wochen vor Termin \nJetzt teilnehmen!
URL:https://ita-academy.de/event/prozessoptimierung-durch-lean-managment-2/
LOCATION:Innovation and Learning Center Aachen\, Vaalser StraÃŸe 460\, Aachen\, 52074\, Deutschland
CATEGORIES:ILC Event
ATTACH;FMTTYPE=image/png:https://ita-academy.de/wp-content/uploads/2025/02/KI-Titelbild-2.png
ORGANIZER;CN="ITA Academy GmbH":MAILTO:post@ita-academy.de
END:VEVENT
BEGIN:VEVENT
DTSTART;TZID=Europe/Berlin:20250514T090000
DTEND;TZID=Europe/Berlin:20250514T160000
DTSTAMP:20260420T231537
CREATED:20250414T072205Z
LAST-MODIFIED:20250423T090829Z
UID:2593-1747213200-1747238400@ita-academy.de
SUMMARY:Start your career with MHP? - Studierenden Workshop
DESCRIPTION:Die MHP Management- und IT Beratung (Tochterunternehmen der Porsche AG) lÃ¤dt dich herzlich zu einem einzigartigen eintÃ¤gigen Workshop in Aachen ein\, der dir Einblicke in die faszinierende Welt der digitalen Transformation bieten wird.\nDie Automobilindustrie befindet sich mitten in einem revolutionÃ¤ren Wandel\, und wir mÃ¶chten dich einladen\, Teil dieser aufregenden Reise zu werden. Bei unserem Workshop werden wir gemeinsam die Herausforderungen und MÃ¶glichkeiten erkunden\, die die digitale Transformation in diversen Branchen mit sich bringt. Unser Ziel ist es\, dir einen umfassenden Ãœberblick Ã¼ber die neuesten Trends und Strategien zu bieten\, die die Automobilindustrie und weitere Industrien prÃ¤gen. Von der Entwicklung intelligenter MobilitÃ¤tskonzepte bis hin zur Integration von kÃ¼nstlicher Intelligenz und maschinellem Lernen &#8211; wir werden die Zukunft der Automobilindustrie gestalten.\nDer Workshop bietet euch die Chance\, mit unseren erfahrenen Experten in Kontakt zu treten und mehr Ã¼ber die Arbeit eines Beratungsunternehmens zu erfahren. Wir suchen talentierte und begeisterungsfÃ¤hige Studierende\, die bereit sind\, die digitale Zukunft mitzugestalten und sich dazu in einer lockeren AtmosphÃ¤re mit uns austauschen wollen.\nWenn Sie an diesem spannenden Event teilnehmen mÃ¶chten\, senden Sie uns bitte Ihren Lebenslauf per E-Mail an post@ita-academy.de. Wir freuen uns darauf\, dich kennenzulernen und deine Leidenschaft fÃ¼r die digitale Transformation zu entdecken. \nAlle Informationen findest du ebenfalls auf unserem Flyer\nSei dabei und erlebe\, wie MHP die Automobilindustrie von morgen gestaltet!
URL:https://ita-academy.de/event/start-your-career-with-mhp-studenten-workshop/
LOCATION:Innovation and Learning Center Aachen\, Vaalser StraÃŸe 460\, Aachen\, 52074\, Deutschland
CATEGORIES:ILC Event
ATTACH;FMTTYPE=image/png:https://ita-academy.de/wp-content/uploads/2025/04/KI-Titelbild-7.png
END:VEVENT
BEGIN:VEVENT
DTSTART;TZID=Europe/Berlin:20250520T140000
DTEND;TZID=Europe/Berlin:20250520T160000
DTSTAMP:20260420T231537
CREATED:20250514T084557Z
LAST-MODIFIED:20250514T084557Z
UID:2658-1747749600-1747756800@ita-academy.de
SUMMARY:KI in der Praxis â€“ vom Hype zur wertschÃ¶pfenden Anwendung
DESCRIPTION:Tauchen Sie ein in die Welt der KÃ¼nstlichen Intelligenz bei unserer exklusiven Veranstaltung â€žKI in der Praxis: Vom Hype zur wertschÃ¶pfenden Anwendungâ€œ. Erleben Sie live\, wie unterschiedlichste Anwendungen aus dem Bereich KI und Industrie 4.0 echten Mehrwert fÃ¼r Unternehmen schaffen â€“ praxisnah\, verstÃ¤ndlich und zukunftsorientiert. \nDie Veranstaltung findet im Rahmen der Aachener KI Woche statt\, an der wir aktiv mitwirken. Freuen Sie sich auf spannende Einblicke\, interaktive Demonstrationen und den direkten Austausch mit unseren Expertinnen und Experten. \nWas erwartet Sie?\nErleben Sie hautnah\, wie kÃ¼nstliche Intelligenz den Arbeitsalltag verÃ¤ndert! In unserer Veranstaltung â€žKI in der Praxisâ€œ zeigen wir Ihnen live und interaktiv\, wie Innovation greifbar wird â€“ direkt in unserer hochmodernen Lernfabrik fÃ¼r Industrie 4.0. Unsere Expertinnen und Experten fÃ¼hren Sie durch praxisnahe Demonstrationen und geben Ihnen Einblicke in reale Anwendungsbeispiele\, wie KI schon heute Effizienz\, Sicherheit und Transparenz steigert. \nOhne zu viel vorwegzunehmen â€“ hier ein Auszug beispielhafter Use Cases\, die Sie vor Ort erleben kÃ¶nnen: \nâ€¢ Intelligente Dokumenten- und Wissenssuche\nâ€¢ KI-gestÃ¼tzte QualitÃ¤tsinspektion mit visueller Analyse\nâ€¢ Autonome mobile Roboter (AMR) im Zusammenspiel mit Cobot-LÃ¶sungen\nâ€¢ KI-basierte vorausschauende Wartung (Predictive Maintenance)\nâ€¢ Smarte KI-LÃ¶sungen zur Erkennung sicherheitsrelevanter Situationen\nâ€¢ Automatisierte Erkennung und Analyse von Arbeitsschritten durch KI\nâ€¢ Datengetriebene Prozessoptimierung mit KI-Assistenzsystemen \nUnsere Experten fÃ¼hren Sie durch die Live-Demonstrationen und stehen Ihnen fÃ¼r Fragen zur VerfÃ¼gung. Nutzen Sie die Gelegenheit\, innovative LÃ¶sungsansÃ¤tze kennen zu lernen und mit anderen Teilnehmern aus der Branche zu diskutieren\, um neue Impulse fÃ¼r den Einsatz von KI in Ihrem Unternehmen zu erhalten.
URL:https://ita-academy.de/event/ki-in-der-praxis-vom-hype-zur-wertschoepfenden-anwendung/
LOCATION:Innovation and Learning Center Aachen\, Vaalser StraÃŸe 460\, Aachen\, 52074\, Deutschland
CATEGORIES:ILC Event
ATTACH;FMTTYPE=image/png:https://ita-academy.de/wp-content/uploads/2025/05/ILC-Titelbild-5.png
ORGANIZER;CN="ITA Academy GmbH":MAILTO:post@ita-academy.de
END:VEVENT
BEGIN:VEVENT
DTSTART;VALUE=DATE:20250527
DTEND;VALUE=DATE:20250529
DTSTAMP:20260420T231537
CREATED:20240206T164254Z
LAST-MODIFIED:20250306T102829Z
UID:2016-1748304000-1748476799@ita-academy.de
SUMMARY:Readiness for smart manufacturing Workshop
DESCRIPTION:Kursinhalte\nDer readiness for smart manufacturing Workshop ist ein zweitÃ¤giges Training fÃ¼r Interessierte\, die in die digitale Produktion einsteigen mÃ¶chten. Er vermittelt Grundlagen\, Technologien und Methoden zur Verbesserung von Effizienz und ProduktivitÃ¤t in Unternehmen. \nHighlight\nUnser Center bietet Ihnen eine realitÃ¤tsgetreue Produktionsumgebung\, von Arbeitsvorbereitung Ã¼ber additive Fertigung bis Montage. Praxisnahe Demonstrationen geben Ihnen die MÃ¶glichkeit unsere 27 digitalen LÃ¶sungen zu erkunden. \nTagesablÃ¤ufe\nTag 1: \n\nLean Fertigung und Methodik\nPerformance Dialog\nWertstromanalyse in der Produktion\nEinfÃ¼hrung in die digitale Fertigung\nTransfer auf das eigene Unternehmen\n\nTag 2: \n\nEinfÃ¼hrung KÃ¼nstliche Intelligenz in der Produktion\nSensorik und Datenerfassung\nAutomatisierung und Robotik\nAugmented and Virtual Reality Experience\n\nFrÃ¼hbucherrabatt\nBei verbindlicher Buchung 8 Wochen vor Termin erhalten Sie 10% FrÃ¼hbucherrabatt. \nWeitere Informationen zu unserem Trainingsprogramm finden Sie hier auf unserer Flyer\nHaben Sie Fragen? Dann melden Sie sich gerne per E-Mail an:Â Nadine MedimeghÂ und per Telefon: 0241/8049100 \n  \nJetzt teilnehmen!\n\n  \nWir freuen uns auf Ihre Anfrage!
URL:https://ita-academy.de/event/digital-transformation-workshop/
LOCATION:Innovation and Learning Center Aachen\, Vaalser StraÃŸe 460\, Aachen\, 52074\, Deutschland
CATEGORIES:ILC Event
ATTACH;FMTTYPE=image/png:https://ita-academy.de/wp-content/uploads/2024/02/Digi-Titelbild.png
END:VEVENT
END:VCALENDAR