BEGIN:VCALENDAR
VERSION:2.0
PRODID:-//ITA Academy GmbH - ECPv6.15.17.1//NONSGML v1.0//EN
CALSCALE:GREGORIAN
METHOD:PUBLISH
X-WR-CALNAME:ITA Academy GmbH
X-ORIGINAL-URL:https://ita-academy.de
X-WR-CALDESC:Veranstaltungen für ITA Academy GmbH
REFRESH-INTERVAL;VALUE=DURATION:PT1H
X-Robots-Tag:noindex
X-PUBLISHED-TTL:PT1H
BEGIN:VTIMEZONE
TZID:Europe/Berlin
BEGIN:DAYLIGHT
TZOFFSETFROM:+0100
TZOFFSETTO:+0200
TZNAME:CEST
DTSTART:20240331T010000
END:DAYLIGHT
BEGIN:STANDARD
TZOFFSETFROM:+0200
TZOFFSETTO:+0100
TZNAME:CET
DTSTART:20241027T010000
END:STANDARD
BEGIN:DAYLIGHT
TZOFFSETFROM:+0100
TZOFFSETTO:+0200
TZNAME:CEST
DTSTART:20250330T010000
END:DAYLIGHT
BEGIN:STANDARD
TZOFFSETFROM:+0200
TZOFFSETTO:+0100
TZNAME:CET
DTSTART:20251026T010000
END:STANDARD
BEGIN:DAYLIGHT
TZOFFSETFROM:+0100
TZOFFSETTO:+0200
TZNAME:CEST
DTSTART:20260329T010000
END:DAYLIGHT
BEGIN:STANDARD
TZOFFSETFROM:+0200
TZOFFSETTO:+0100
TZNAME:CET
DTSTART:20261025T010000
END:STANDARD
END:VTIMEZONE
BEGIN:VEVENT
DTSTART;TZID=Europe/Berlin:20250331T121800
DTEND;TZID=Europe/Berlin:20250331T122600
DTSTAMP:20260421T030041
CREATED:20250313T091521Z
LAST-MODIFIED:20250313T091521Z
UID:2563-1743423480-1743423960@ita-academy.de
SUMMARY:Skalierung von KI-Geschäftsmodellen & industrielle Innovation
DESCRIPTION:Die Hannover Messe ist die weltweit führende Industriemesse und ein zentraler Treffpunkt für Innovationen in den Bereichen Industrie 4.0\, Nachhaltigkeit und digitale Transformation. Auch dieses Jahr nimmt das Team der ITA Academy an diesem inspirierenden Event teil. \nIn diesem Vortrag wird unser Kollege Massoud Sattari Torki erläutern\, wie KI-Geschäftsmodelle erfolgreich skaliert werden können. Erfahren Sie\, welche Strategien und Best Practices Unternehmen nutzen\, um KI effizient in industrielle Prozesse zu integrieren und langfristig Wettbewerbsvorteile zu sichern. \n🔹 Wann? 31.03.2025 12:18-12:26\n🔹 Wo? Hannover Messe\, Halle 2\, Stand D10\n🔹 Mehr Infos: https://shorturl.at/6bJqg \n📌 Jetzt vormerken und Innovation live erleben!  \nThema: Industrie 4.0 / Manufacturing-X\nSprache: Englisch
URL:https://ita-academy.de/event/skalierung-von-ki-geschaeftsmodellen-industrielle-innovation/
LOCATION:Hannovermesse 2025\, Messegelände / Hermes Allee\, Hannover\, Niedersachsen\, 30521\, Germany
CATEGORIES:ILC Event
ATTACH;FMTTYPE=image/png:https://ita-academy.de/wp-content/uploads/2025/03/KI-Titelbild-4.png
ORGANIZER;CN="ITA Academy GmbH":MAILTO:post@ita-academy.de
END:VEVENT
BEGIN:VEVENT
DTSTART;TZID=Europe/Berlin:20250331T142500
DTEND;TZID=Europe/Berlin:20250331T144500
DTSTAMP:20260421T030041
CREATED:20250312T090850Z
LAST-MODIFIED:20250312T092332Z
UID:2550-1743431100-1743432300@ita-academy.de
SUMMARY:KI-gestützte Prozessoptimierung für nachhaltige und resiliente Lieferketten
DESCRIPTION:Die Hannover Messe ist die weltweit führende Industriemesse und ein zentraler Treffpunkt für Innovationen in den Bereichen Industrie 4.0\, Nachhaltigkeit und digitale Transformation. Auch dieses Jahr nimmt das Team der ITA Academy an diesem inspirierenden Event teil. \nIn diesem Rahmen gibt unser Kollege Massoud Sattari Torki eine spannende Keynote zur KI-gestützten Prozessoptimierung\, in der er zeigt\, wie Künstliche Intelligenz Unternehmen dabei helfen kann\, ihre Lieferketten nachhaltiger und widerstandsfähiger zu gestalten. \n🔹 Wann? 31.03.2025 14:25-14:45\n🔹 Wo? Hannover Messe\, Halle 3\, Stand C71\n🔹 Mehr Infos: https://shorturl.at/bQ6aQ \n📌 Jetzt vormerken und Innovation live erleben!  \nThema: Supply Chain Management + weitere\nSprache: Englisch
URL:https://ita-academy.de/event/ki-gestuetzte-prozessoptimierung-fuer-nachhaltige-und-resiliente-lieferketten/
LOCATION:Hannovermesse 2025\, Messegelände / Hermes Allee\, Hannover\, Niedersachsen\, 30521\, Germany
CATEGORIES:ILC Event
ATTACH;FMTTYPE=image/png:https://ita-academy.de/wp-content/uploads/2025/03/KI-Titelbild-4.png
ORGANIZER;CN="ITA Academy GmbH":MAILTO:post@ita-academy.de
END:VEVENT
END:VCALENDAR