BEGIN:VCALENDAR
VERSION:2.0
PRODID:-//ITA Academy GmbH - ECPv6.15.17.1//NONSGML v1.0//EN
CALSCALE:GREGORIAN
METHOD:PUBLISH
X-ORIGINAL-URL:https://ita-academy.de
X-WR-CALDESC:Veranstaltungen für ITA Academy GmbH
REFRESH-INTERVAL;VALUE=DURATION:PT1H
X-Robots-Tag:noindex
X-PUBLISHED-TTL:PT1H
BEGIN:VTIMEZONE
TZID:Europe/Berlin
BEGIN:DAYLIGHT
TZOFFSETFROM:+0100
TZOFFSETTO:+0200
TZNAME:CEST
DTSTART:20230326T010000
END:DAYLIGHT
BEGIN:STANDARD
TZOFFSETFROM:+0200
TZOFFSETTO:+0100
TZNAME:CET
DTSTART:20231029T010000
END:STANDARD
BEGIN:DAYLIGHT
TZOFFSETFROM:+0100
TZOFFSETTO:+0200
TZNAME:CEST
DTSTART:20240331T010000
END:DAYLIGHT
BEGIN:STANDARD
TZOFFSETFROM:+0200
TZOFFSETTO:+0100
TZNAME:CET
DTSTART:20241027T010000
END:STANDARD
BEGIN:DAYLIGHT
TZOFFSETFROM:+0100
TZOFFSETTO:+0200
TZNAME:CEST
DTSTART:20250330T010000
END:DAYLIGHT
BEGIN:STANDARD
TZOFFSETFROM:+0200
TZOFFSETTO:+0100
TZNAME:CET
DTSTART:20251026T010000
END:STANDARD
END:VTIMEZONE
BEGIN:VEVENT
DTSTART;TZID=Europe/Berlin:20240807T100000
DTEND;TZID=Europe/Berlin:20240807T130000
DTSTAMP:20260421T172850
CREATED:20240731T122647Z
LAST-MODIFIED:20240731T122647Z
UID:2270-1723024800-1723035600@ita-academy.de
SUMMARY:Von Daten zu Taten: Verwaltungsschalen in der modernen Fertigung
DESCRIPTION:Labtour am Innovation & Learning Center am 07.08.2024!\nErleben Sie die Zukunft der Industrie 4.0 hautnah! Bei unserer Labtour zur Verwaltungsschale zeigen wir\, wie dieser Standard im Digitalen Zwilling eingesetzt wird. Freuen Sie sich auf spannende Einblicke in unsere moderne Lernfabrik und erfahren Sie\, warum die Verwaltungsschale ein Begriff ist\, den Sie sich merken sollten. Entdecken Sie\, wie der Digitale Zwilling Geschäftsmodelle innovativ verändern kann. \nAlle wichtigen Informationen finden sie in unserem Flyer. \nMelden Sie sich jetzt an: https://lnkd.in/dKrcXTKR \nWir freuen uns auf Ihren Besuch!
URL:https://ita-academy.de/event/von-daten-zu-taten-verwaltungsschalen-in-der-modernen-fertigung/
LOCATION:Innovation and Learning Center Aachen\, Vaalser Straße 460\, Aachen\, 52074\, Deutschland
CATEGORIES:ILC Event
ATTACH;FMTTYPE=image/png:https://ita-academy.de/wp-content/uploads/2024/07/Group-82267.png
ORGANIZER;CN="ITA Academy GmbH":MAILTO:post@ita-academy.de
END:VEVENT
BEGIN:VEVENT
DTSTART;TZID=Europe/Berlin:20240827T090000
DTEND;TZID=Europe/Berlin:20240829T170000
DTSTAMP:20260421T172850
CREATED:20240102T145513Z
LAST-MODIFIED:20240701T094656Z
UID:1954-1724749200-1724950800@ita-academy.de
SUMMARY:Grundlagen der Textiltechnik für das Automobil Interieur
DESCRIPTION:Lerninhalte\nDas Seminar vermittelt die Grundkenntnisse der gesamten textilen Wertschöpfungskette für Interieur-Textilien von der Faser bis hin zum fertigen Bauteil. Dabei werden Fachtermini vermittelt\, Produkte erläutert und Prozesse anschaulich demonstriert. \nZielgruppe\nFür Fachkräfte mit branchenfremder Ausbildung\, Quereinsteiger:innen und Mitarbeitende\, die Fachkenntnisse „Textil im Interieur“ erwerben oder auffrischen wollen. \nKursformat\n3-tägige Schulung mit Theorie- und Praxisphasen inkl. Maschinen- und Prozessdemonstrationen \nDank einer Förderung durch das BMWK ist die Veranstaltung für Sie kostenlos &#8211; Weitere Informationen zu unserem Trainingsprogramm finden Sie hier in unserem Flyer und der Agenda. \nHaben Sie Fragen? Dann melden Sie sich gerne per E-Mail an: Nadine Medimegh und per Telefon: 0241/8049100 \nWir freuen uns auf Ihre Anfrage!
URL:https://ita-academy.de/event/grundlagen-der-textiltechnik-fuer-das-automobil-interieur/
LOCATION:Institut für Textiltechnik der RWTH Aachen University\, Otto-Blumenthal-Straße 1\, Aachen\, 52074\, Deutschland
ATTACH;FMTTYPE=image/png:https://ita-academy.de/wp-content/uploads/2023/11/Screenshot-2023-12-13-111357.png
ORGANIZER;CN="ITA Academy GmbH":MAILTO:post@ita-academy.de
END:VEVENT
END:VCALENDAR