BEGIN:VCALENDAR
VERSION:2.0
PRODID:-//ITA Academy GmbH - ECPv6.15.17.1//NONSGML v1.0//EN
CALSCALE:GREGORIAN
METHOD:PUBLISH
X-WR-CALNAME:ITA Academy GmbH
X-ORIGINAL-URL:https://ita-academy.de
X-WR-CALDESC:Veranstaltungen für ITA Academy GmbH
REFRESH-INTERVAL;VALUE=DURATION:PT1H
X-Robots-Tag:noindex
X-PUBLISHED-TTL:PT1H
BEGIN:VTIMEZONE
TZID:Europe/Berlin
BEGIN:DAYLIGHT
TZOFFSETFROM:+0100
TZOFFSETTO:+0200
TZNAME:CEST
DTSTART:20230326T010000
END:DAYLIGHT
BEGIN:STANDARD
TZOFFSETFROM:+0200
TZOFFSETTO:+0100
TZNAME:CET
DTSTART:20231029T010000
END:STANDARD
BEGIN:DAYLIGHT
TZOFFSETFROM:+0100
TZOFFSETTO:+0200
TZNAME:CEST
DTSTART:20240331T010000
END:DAYLIGHT
BEGIN:STANDARD
TZOFFSETFROM:+0200
TZOFFSETTO:+0100
TZNAME:CET
DTSTART:20241027T010000
END:STANDARD
BEGIN:DAYLIGHT
TZOFFSETFROM:+0100
TZOFFSETTO:+0200
TZNAME:CEST
DTSTART:20250330T010000
END:DAYLIGHT
BEGIN:STANDARD
TZOFFSETFROM:+0200
TZOFFSETTO:+0100
TZNAME:CET
DTSTART:20251026T010000
END:STANDARD
END:VTIMEZONE
BEGIN:VEVENT
DTSTART;TZID=Europe/Berlin:20240409T090000
DTEND;TZID=Europe/Berlin:20240411T170000
DTSTAMP:20260422T020718
CREATED:20240130T081017Z
LAST-MODIFIED:20240205T170425Z
UID:1963-1712653200-1712854800@ita-academy.de
SUMMARY:Offene Schulung "Grundlagen der Textiltechnik"
DESCRIPTION:In unseren regelmäßig stattfindenden offenen Schulungen haben Sie beste Gelegenheiten Ihr Fachwissen im Bereich Textiltechnik aufzufrischen und sich mit Wissenschaftler:innen und anderen Teilnehmenden auszutauschen. \nLerninhalte\nDas Seminar vermittelt die Grundkenntnisse der gesamten textilen Wertschöpfungskette von Natur-und Chemiefasern bis hin zum fertigen Bauteil. Dabei werden Fachtermini vermittelt\, Produkte erläutert und Prozesse anschaulich demonstriert. \nZielgruppe\nFür Fachkräfte mit branchenfremder Ausbildung\, Quereinsteiger:innen und Mitarbeiter:innen\, die Fachkenntnisse „Textil“ erwerben oder auffrischen wollen. \nKursformat\n3-tägige Schulung mit Theorie-und Praxisphasen inkl. Maschinen-und Prozessdemonstrationen im Technikum und Labor des Instituts für Textiltechnik der RWTH Aachen University. \nFrühbucherrabatt\nBei verbindlicher Buchung 8 Wochen vor Termin erhalten Sie 10% Frühbucherrabatt. \nWeitere Informationen zu unserem Trainingsprogramm finden Sie hier auf unserer Webseite.\nHaben Sie Fragen? Dann melden Sie sich gerne per E-Mail an: Nadine Medimegh und per Telefon: 0241/8049100 \nWir freuen uns auf Ihre Anfrage!
URL:https://ita-academy.de/event/https-ita-academy-de-grundlagen-der-textiltechnik/
LOCATION:Institut für Textiltechnik der RWTH Aachen University\, Otto-Blumenthal-Straße 1\, Aachen\, 52074\, Deutschland
CATEGORIES:Textilschulung
ATTACH;FMTTYPE=image/svg+xml:https://ita-academy.de/wp-content/uploads/2023/09/Group-71-1.svg
ORGANIZER;CN="ITA Academy GmbH":MAILTO:post@ita-academy.de
END:VEVENT
BEGIN:VEVENT
DTSTART;TZID=Europe/Berlin:20240418T090000
DTEND;TZID=Europe/Berlin:20240419T170000
DTSTAMP:20260422T020718
CREATED:20240205T164015Z
LAST-MODIFIED:20240205T164312Z
UID:2002-1713430800-1713546000@ita-academy.de
SUMMARY:Workshop Textil-Recycling für das Automobil Interieur
DESCRIPTION:Lerninhalte\nSie erlernen ein Grundverständnis von Recycling in der Textilindustrie\, lernen die verschiedenen Verfahren und Prozesse kennen und erhalten eine Übersicht über den aktuellen Stand der Technik. Das Seminar erleichtert die Bewertung von Recyclingmöglichkeiten für das Automobil Interieur\, vermittelt Fachvokabular und gibt Inspiration recyclebare Produkte. \n\nWas ist Recycling? Einführung in die Begrifflichkeiten\, wie z.B. Sortierung\, Thermomechanisches Recycling\, Mechanisches Recycling\, Circular Economy\, Design for Recycling\nWelche verschiedenen Recyclingverfahren gibt es und welche vorgelagerten Prozesse sind notwendig?\nWelche Potenziale und Herausforderungen bietet das Recycling von Textilien und wie können zukünftige Produkte gestaltet werden?\n\nKursformat\n2-tägige Schulung mit Theorie-\, Praxis- und Workshopphasen inkl. Maschinen- und Prozessdemonstration \nDank einer Förderung durch das BMWK ist die Veranstaltung für Sie kostenlos &#8211; Weitere Informationen zu unserem Trainingsprogramm finden Sie hier in unserem Flyer. Haben Sie Fragen? Dann melden Sie sich gerne per E-Mail an: Nadine Medimegh und per Telefon: 0241/8049100 \nWir freuen uns auf Ihre Anfrage!
URL:https://ita-academy.de/event/workshop-textil-recycling-fuer-das-automobil-interieur/
LOCATION:Institut für Textiltechnik der RWTH Aachen University\, Otto-Blumenthal-Straße 1\, Aachen\, 52074\, Deutschland
CATEGORIES:Textilschulung
ATTACH;FMTTYPE=image/jpeg:https://ita-academy.de/wp-content/uploads/2024/02/INSUM-Recycling-header.jpg
ORGANIZER;CN="ITA Academy GmbH":MAILTO:post@ita-academy.de
END:VEVENT
END:VCALENDAR