BEGIN:VCALENDAR
VERSION:2.0
PRODID:-//ITA Academy GmbH - ECPv6.15.17.1//NONSGML v1.0//EN
CALSCALE:GREGORIAN
METHOD:PUBLISH
X-ORIGINAL-URL:https://ita-academy.de
X-WR-CALDESC:Veranstaltungen fÃ¼r ITA Academy GmbH
REFRESH-INTERVAL;VALUE=DURATION:PT1H
X-Robots-Tag:noindex
X-PUBLISHED-TTL:PT1H
BEGIN:VTIMEZONE
TZID:Europe/Berlin
BEGIN:DAYLIGHT
TZOFFSETFROM:+0100
TZOFFSETTO:+0200
TZNAME:CEST
DTSTART:20240331T010000
END:DAYLIGHT
BEGIN:STANDARD
TZOFFSETFROM:+0200
TZOFFSETTO:+0100
TZNAME:CET
DTSTART:20241027T010000
END:STANDARD
BEGIN:DAYLIGHT
TZOFFSETFROM:+0100
TZOFFSETTO:+0200
TZNAME:CEST
DTSTART:20250330T010000
END:DAYLIGHT
BEGIN:STANDARD
TZOFFSETFROM:+0200
TZOFFSETTO:+0100
TZNAME:CET
DTSTART:20251026T010000
END:STANDARD
BEGIN:DAYLIGHT
TZOFFSETFROM:+0100
TZOFFSETTO:+0200
TZNAME:CEST
DTSTART:20260329T010000
END:DAYLIGHT
BEGIN:STANDARD
TZOFFSETFROM:+0200
TZOFFSETTO:+0100
TZNAME:CET
DTSTART:20261025T010000
END:STANDARD
END:VTIMEZONE
BEGIN:VEVENT
DTSTART;VALUE=DATE:20250922
DTEND;VALUE=DATE:20250923
DTSTAMP:20260420T180736
CREATED:20250916T065228Z
LAST-MODIFIED:20250916T065228Z
UID:2747-1758499200-1758585599@ita-academy.de
SUMMARY:Themed discussion: digitalisation in the EU Textiles ecosystem
DESCRIPTION:Join the upcoming Themed Discussion on digitalisation in textiles!\nOn 22 September\, theÂ EU Textiles Ecosystem PlatformÂ hosts a one-day Themed discussion on digitalisation in the textiles ecosystem. All stakeholders are invited to explore how digital tools can support sustainability\, innovation\, and competitiveness across the ecosystem. \nTheÂ EU Textiles Ecosystem PlatformÂ opens a dedicated discussion space on digitalisation in textiles. From circular business models to smarter resource use\, digitalisation offers new pathways for companies to stay competitive while reducing environmental impact. \nWhat is on the agenda? \n\nWhich digital tools are already making a difference?\nWhat gaps remain in the ecosystem?\nWhat skills and training are needed to support the transition?\n\nRegister nowÂ to the EU Textiles Ecosystem Platform with yourÂ EU LoginÂ to join the discussion and share your experience with other stakeholders across Europe. OnÂ 22 September\, you will be able to access the discussion directly fromÂ this link. Join the conversation anytime during the day! Contribute\, disagree\, and steer the discussion directly on the platform. \nThis is your chance to connect with peers\, share experiences\, and shape the future of digitalisation in textiles. \n 
URL:https://ita-academy.de/event/themed-discussion-digitalisation-in-the-eu-textiles-ecosystem/
CATEGORIES:ILC Event
ATTACH;FMTTYPE=image/png:https://ita-academy.de/wp-content/uploads/2025/09/ILC-Titelbild-7.png
END:VEVENT
END:VCALENDAR