BEGIN:VCALENDAR
VERSION:2.0
PRODID:-//ITA Academy GmbH - ECPv6.15.17.1//NONSGML v1.0//EN
CALSCALE:GREGORIAN
METHOD:PUBLISH
X-WR-CALNAME:ITA Academy GmbH
X-ORIGINAL-URL:https://ita-academy.de
X-WR-CALDESC:Veranstaltungen fÃ¼r ITA Academy GmbH
REFRESH-INTERVAL;VALUE=DURATION:PT1H
X-Robots-Tag:noindex
X-PUBLISHED-TTL:PT1H
BEGIN:VTIMEZONE
TZID:Europe/Berlin
BEGIN:DAYLIGHT
TZOFFSETFROM:+0100
TZOFFSETTO:+0200
TZNAME:CEST
DTSTART:20240331T010000
END:DAYLIGHT
BEGIN:STANDARD
TZOFFSETFROM:+0200
TZOFFSETTO:+0100
TZNAME:CET
DTSTART:20241027T010000
END:STANDARD
BEGIN:DAYLIGHT
TZOFFSETFROM:+0100
TZOFFSETTO:+0200
TZNAME:CEST
DTSTART:20250330T010000
END:DAYLIGHT
BEGIN:STANDARD
TZOFFSETFROM:+0200
TZOFFSETTO:+0100
TZNAME:CET
DTSTART:20251026T010000
END:STANDARD
BEGIN:DAYLIGHT
TZOFFSETFROM:+0100
TZOFFSETTO:+0200
TZNAME:CEST
DTSTART:20260329T010000
END:DAYLIGHT
BEGIN:STANDARD
TZOFFSETFROM:+0200
TZOFFSETTO:+0100
TZNAME:CET
DTSTART:20261025T010000
END:STANDARD
END:VTIMEZONE
BEGIN:VEVENT
DTSTART;TZID=Europe/Berlin:20250916T090000
DTEND;TZID=Europe/Berlin:20250917T160000
DTSTAMP:20260420T180557
CREATED:20250709T061717Z
LAST-MODIFIED:20250729T092557Z
UID:2685-1758013200-1758124800@ita-academy.de
SUMMARY:Digitale ProduktpÃ¤sse & Digitale Zwillinge
DESCRIPTION:Am 16. und 17. September lÃ¤dt die ITA Academy gemeinsam mit dem Lehrstuhl fÃ¼r Informations- und Automatisierungssysteme fÃ¼r die Prozess- und Werkstofftechnik der RWTH Aachen University zu einem zweitÃ¤gigen Workshop ins Innovation & Learning Center nach Aachen ein. Im Mittelpunkt stehen die Chancen und Anforderungen rund um digitale ProduktpÃ¤sse (DPP) und digitale Zwillinge â€“ zentrale Bausteine fÃ¼r mehr Transparenz\, Nachhaltigkeit und Effizienz in modernen WertschÃ¶pfungsketten. \nDer erste Workshoptag richtet sich vorrangig an EntscheidungstrÃ¤gerinnen und EntscheidungstrÃ¤ger aus Unternehmen. Es werden die Grundlagen\, Standards und regulatorischen Anforderungen im Zusammenhang mit digitalen ProduktpÃ¤ssen und der Asset Administration Shell (AAS) vermittelt. Teilnehmende erhalten einen Ãœberblick Ã¼ber aktuelle Entwicklungen auf EU-Ebene sowie Ã¼ber konkrete AnwendungsmÃ¶glichkeiten im betrieblichen Kontext. \nDer zweite Tag ist als technischer Deep-Dive fÃ¼r Entwicklerinnen und Entwickler konzipiert. Hier geht es um die praktische Umsetzung: Grundlagen der Datenintegration und Security innerhalb der AAS\, der Einsatz des AAS Managers sowie erste Schritte mit dem Eclipse BaSyx Python SDK. In interaktiven Ãœbungen erarbeiten die Teilnehmenden eigene Anwendungen und erfahren\, wie sich digitale Zwillinge im eigenen Unternehmen implementieren lassen. \nDer Workshop kombiniert theoretisches Wissen mit praxisnahen Beispielen und unterstÃ¼tzt Unternehmen dabei\, sich frÃ¼hzeitig auf regulatorische Anforderungen vorzubereiten und gleichzeitig Innovationspotenziale zu nutzen. \n  \nGood to Know \nVeranstaltungsort: Innovation & Learning Center Aachen\, \nVaalser StraÃŸe 460 Aachen\, 52074 Deutschland \nDauer: 09-16 Uhr \nSprache: Deutsch \nLernmaterial: Material wird zur VerfÃ¼gung gestellt \nAnmeldeschluss: 31. August 2025 \nKosten: Kosten pro Tag und ein Kombipreis fÃ¼r beide Tage (Ein Tag: 790â‚¬ / Beide Tage: 1.390â‚¬) \n  \nWeitere Informationen finden Sie auf unserer Flyer! \n  \nJetzt anmelden!
URL:https://ita-academy.de/event/digitale-produktpaesse-digitale-zwillinge/
LOCATION:Innovation and Learning Center Aachen\, Vaalser StraÃŸe 460\, Aachen\, 52074\, Deutschland
CATEGORIES:ILC Event
ATTACH;FMTTYPE=image/png:https://ita-academy.de/wp-content/uploads/2025/07/ILC-Titelbild-6.png
ORGANIZER;CN="ITA Academy GmbH":MAILTO:post@ita-academy.de
END:VEVENT
END:VCALENDAR