BEGIN:VCALENDAR
VERSION:2.0
PRODID:-//ITA Academy GmbH - ECPv6.15.17.1//NONSGML v1.0//EN
CALSCALE:GREGORIAN
METHOD:PUBLISH
X-ORIGINAL-URL:https://ita-academy.de
X-WR-CALDESC:Veranstaltungen für ITA Academy GmbH
REFRESH-INTERVAL;VALUE=DURATION:PT1H
X-Robots-Tag:noindex
X-PUBLISHED-TTL:PT1H
BEGIN:VTIMEZONE
TZID:Europe/Berlin
BEGIN:DAYLIGHT
TZOFFSETFROM:+0100
TZOFFSETTO:+0200
TZNAME:CEST
DTSTART:20240331T010000
END:DAYLIGHT
BEGIN:STANDARD
TZOFFSETFROM:+0200
TZOFFSETTO:+0100
TZNAME:CET
DTSTART:20241027T010000
END:STANDARD
BEGIN:DAYLIGHT
TZOFFSETFROM:+0100
TZOFFSETTO:+0200
TZNAME:CEST
DTSTART:20250330T010000
END:DAYLIGHT
BEGIN:STANDARD
TZOFFSETFROM:+0200
TZOFFSETTO:+0100
TZNAME:CET
DTSTART:20251026T010000
END:STANDARD
BEGIN:DAYLIGHT
TZOFFSETFROM:+0100
TZOFFSETTO:+0200
TZNAME:CEST
DTSTART:20260329T010000
END:DAYLIGHT
BEGIN:STANDARD
TZOFFSETFROM:+0200
TZOFFSETTO:+0100
TZNAME:CET
DTSTART:20261025T010000
END:STANDARD
END:VTIMEZONE
BEGIN:VEVENT
DTSTART;TZID=Europe/Berlin:20250520T140000
DTEND;TZID=Europe/Berlin:20250520T160000
DTSTAMP:20260421T011432
CREATED:20250514T084557Z
LAST-MODIFIED:20250514T084557Z
UID:2658-1747749600-1747756800@ita-academy.de
SUMMARY:KI in der Praxis – vom Hype zur wertschöpfenden Anwendung
DESCRIPTION:Tauchen Sie ein in die Welt der Künstlichen Intelligenz bei unserer exklusiven Veranstaltung „KI in der Praxis: Vom Hype zur wertschöpfenden Anwendung“. Erleben Sie live\, wie unterschiedlichste Anwendungen aus dem Bereich KI und Industrie 4.0 echten Mehrwert für Unternehmen schaffen – praxisnah\, verständlich und zukunftsorientiert. \nDie Veranstaltung findet im Rahmen der Aachener KI Woche statt\, an der wir aktiv mitwirken. Freuen Sie sich auf spannende Einblicke\, interaktive Demonstrationen und den direkten Austausch mit unseren Expertinnen und Experten. \nWas erwartet Sie?\nErleben Sie hautnah\, wie künstliche Intelligenz den Arbeitsalltag verändert! In unserer Veranstaltung „KI in der Praxis“ zeigen wir Ihnen live und interaktiv\, wie Innovation greifbar wird – direkt in unserer hochmodernen Lernfabrik für Industrie 4.0. Unsere Expertinnen und Experten führen Sie durch praxisnahe Demonstrationen und geben Ihnen Einblicke in reale Anwendungsbeispiele\, wie KI schon heute Effizienz\, Sicherheit und Transparenz steigert. \nOhne zu viel vorwegzunehmen – hier ein Auszug beispielhafter Use Cases\, die Sie vor Ort erleben können: \n• Intelligente Dokumenten- und Wissenssuche\n• KI-gestützte Qualitätsinspektion mit visueller Analyse\n• Autonome mobile Roboter (AMR) im Zusammenspiel mit Cobot-Lösungen\n• KI-basierte vorausschauende Wartung (Predictive Maintenance)\n• Smarte KI-Lösungen zur Erkennung sicherheitsrelevanter Situationen\n• Automatisierte Erkennung und Analyse von Arbeitsschritten durch KI\n• Datengetriebene Prozessoptimierung mit KI-Assistenzsystemen \nUnsere Experten führen Sie durch die Live-Demonstrationen und stehen Ihnen für Fragen zur Verfügung. Nutzen Sie die Gelegenheit\, innovative Lösungsansätze kennen zu lernen und mit anderen Teilnehmern aus der Branche zu diskutieren\, um neue Impulse für den Einsatz von KI in Ihrem Unternehmen zu erhalten.
URL:https://ita-academy.de/event/ki-in-der-praxis-vom-hype-zur-wertschoepfenden-anwendung/
LOCATION:Innovation and Learning Center Aachen\, Vaalser Straße 460\, Aachen\, 52074\, Deutschland
CATEGORIES:ILC Event
ATTACH;FMTTYPE=image/png:https://ita-academy.de/wp-content/uploads/2025/05/ILC-Titelbild-5.png
ORGANIZER;CN="ITA Academy GmbH":MAILTO:post@ita-academy.de
END:VEVENT
END:VCALENDAR